BEGIN:VCALENDAR
VERSION:2.0
PRODID:-//wp-events-plugin.com//7.2.3.1//EN
TZID:Europe/Bucharest
X-WR-TIMEZONE:Europe/Bucharest
BEGIN:VEVENT
UID:123@festivalulaltfel.manutepricepute.ro
DTSTART:20160421T070000Z
DTEND:20160421T084500Z
DTSTAMP:20170223T212439Z
URL:https://festivalulaltfel.manutepricepute.ro/events/ce-facem-cu-lucruri
 le-care-nu-ne-plac-3/
SUMMARY:Ce facem cu lucrurile care nu ne plac?
DESCRIPTION:Descrierea atelierului: E important ca elevilor să le placă c
 eea ce fac! Chiar şi profesorii\, părinţii\, bunicii ştiu acest lucru.
  Ce faci când îţi dai seama că sunt activităţi pe care ar fi bine s
 ă le faci  însă nu îţi plac? Renunţi? Continui chiar dacă nu ai vr
 ea asta?  Cum ar fi dacă ai ȋnvǎţa ce să faci ca să-ţi placă lucr
 urile pe care nu îţi place să le faci? Vino la atelierul "Ce facem cu l
 ucrurile care nu ne plac?" pentru a afla mai multe folosind exerciţii din
 amice şi interactive.\n\nAtelierul este oferit de: Psyhealth și susținu
 t de  Andrada Cosma\, psiholog şi doctorand Psihologie\, Universitatea B
 abeş-Bolyai. De peste 4 ani desfăşor activităţi de dezvoltare persona
 lă pentru copii şi adolescenţi\, fie în cadrul cabinetului de psiholog
 ie\, fie în cadrul ONG-ului Psyhealth- Centru pentru Promovarea Sănătă
 ţii Mentale.
CATEGORIES:Gimnaziu,Liceu
LOCATION:Casa de Cultură a Studenților - Sala Vest\, \, 
X-APPLE-STRUCTURED-LOCATION;VALUE=URI;X-ADDRESS=\, ;X-APPLE-RADIUS=100;X-TI
 TLE=Casa de Cultură a Studenților - Sala Vest:geo:0,0
END:VEVENT
END:VCALENDAR