BEGIN:VCALENDAR
VERSION:2.0
PRODID:-//wp-events-plugin.com//7.2.3.1//EN
TZID:Europe/Bucharest
X-WR-TIMEZONE:Europe/Bucharest
BEGIN:VEVENT
UID:351@festivalulaltfel.manutepricepute.ro
DTSTART:20170520T130000Z
DTEND:20170520T140000Z
DTSTAMP:20170512T075703Z
URL:https://festivalulaltfel.manutepricepute.ro/events/kids-strythm-7/
SUMMARY:Kid’s Strythm
DESCRIPTION:\n\nKid’s Strythm este un concept local\, clujean\, care a lu
 at naştere cu ocazia Zilelor Clujului\, organizate de Primăria Municipiu
 lui Cluj-Napoca\, ȋn parteneriat cu Inspectoratul Şcolar Judeţean Cluj 
 şi platforma Koobic Fitness.\n\nPeste 2000 de elevi şi frăţiorii lor m
 ai mici au ȋnvăţat o coregrafie simplă şi distractivă\, pe melodii c
 unoscute\, din cele mai recente filme de animaţie\, dȃndu-şi apoi ȋnt
 ȃlnire pe data de 20 mai 2016\, cȃnd şi-au unit paşii ȋn cel mai mare
  dans sincron realizat vreodată ȋn Romȃnia.\n\nBucuria şi entuziasmul 
 tuturor celor care au participat se regăsesc ȋn materialele video anexat
 e şi ne ȋncurajează să continuăm acest proiect.\n\nÎn spatele moment
 ului efectiv de la Zilele Clujului s-au aflat săptămȃni ȋntregi de mun
 că\, ȋn care Diana (instructor certificat aerobic şi fitness)\, cea car
 e a ales coloana sonoră\, paşii şi legăturile dintre ei\, s-a deplasat
  la fiecare şcoală participantă\, pentru a le transmite copilaşilor ma
 i mult decȃt puteau vedea pe materialul video pe care l-au primit la ȋns
 criere… şi anume “bucuria mişcării”. A fost cea mai frumoasă par
 te a acestui proiect\, fiecare astfel de ȋntalnire\, ȋncheindu-se cu îm
 braţişări şi cu multă energie. Asta pentru că Diana a reuşit sa une
 ască prin dans atȃt copilaşii cu talent evident pentru mişcare\, cȃt 
 şi pe cei mai puţin ȋnzestraţi\, sau cărora li s-a spus că nu ar fi 
 talentaţi.\n\nCe ȋşi propune proiectul Kid’s Strythm la Festivalul Al
 tfel?\n\nSă ȋi ȋndrăgostească pe cei mici de mişcare şi de dans\, d
 in nou. Diana și-a adus în acest proiect încă trei prieteni\, pe Abi\,
  pe Laura si pe Raul\, toți instructori certificați și de asemenea pers
 oane tonice\, energice şi molipsitoare.\n\nKid’s Strythm este combinaţ
 ia perfectă ȋntre muzică\, dans şi exercitiu fizic. Prin paşi uşori 
 şi captivanţi\, pe coloane sonore specifice şi familiare celor mici. Ac
 est program dezvoltă coordonarea\, imaginaţia\, memoria şi lucrul ȋn e
 chipă. Se adresează foarte bine şi copilaşilor puţin introvertiţi\, 
 dȃndu-le posibilitatea să se exprime prin mişcare.\n\nÎn continuare do
 rim să vă prezentăm cȃteva momente de la Zilele Clujului\, pentru a v
 ă ȋmpărtaşi bucuria copilaşilor care s-au ȋndrăgostit deja de acest
  tip de mişcare. Le regăsiţi ȋn linkurile de mai jos.\n\nhttps://www.y
 outube.com/watch?v=wcZj4PBizc8\n\nhttps://www.youtube.com/watch?v=jOfYZxbF
 R3o\n\n
ATTACH;FMTTYPE=image/jpeg:https://festivalulaltfel.manutepricepute.ro/wp-c
 ontent/uploads/2017/05/Atelier-de-miscare-kids.jpg
CATEGORIES:Familii
LOCATION:Baza sportivă Gheorgheni\, Strada Alexandru Vaida Voevod\, Cluj-N
 apoca\, Romania
GEO:46.7712101;23.623635299999933
X-APPLE-STRUCTURED-LOCATION;VALUE=URI;X-ADDRESS=Strada Alexandru Vaida Voev
 od\, Cluj-Napoca\, Romania;X-APPLE-RADIUS=100;X-TITLE=Baza sportivă Gheor
 gheni:geo:46.7712101,23.623635299999933
END:VEVENT
END:VCALENDAR